BEGIN:VCALENDAR
VERSION:2.0
PRODID:-//Alma Travel USA - ECPv6.15.20//NONSGML v1.0//EN
CALSCALE:GREGORIAN
METHOD:PUBLISH
X-ORIGINAL-URL:https://www.almatravelusa.com
X-WR-CALDESC:Wydarzenia dla Alma Travel USA
REFRESH-INTERVAL;VALUE=DURATION:PT1H
X-Robots-Tag:noindex
X-PUBLISHED-TTL:PT1H
BEGIN:VTIMEZONE
TZID:America/Chicago
BEGIN:DAYLIGHT
TZOFFSETFROM:-0600
TZOFFSETTO:-0500
TZNAME:CDT
DTSTART:20250309T080000
END:DAYLIGHT
BEGIN:STANDARD
TZOFFSETFROM:-0500
TZOFFSETTO:-0600
TZNAME:CST
DTSTART:20251102T070000
END:STANDARD
BEGIN:DAYLIGHT
TZOFFSETFROM:-0600
TZOFFSETTO:-0500
TZNAME:CDT
DTSTART:20260308T080000
END:DAYLIGHT
BEGIN:STANDARD
TZOFFSETFROM:-0500
TZOFFSETTO:-0600
TZNAME:CST
DTSTART:20261101T070000
END:STANDARD
BEGIN:DAYLIGHT
TZOFFSETFROM:-0600
TZOFFSETTO:-0500
TZNAME:CDT
DTSTART:20270314T080000
END:DAYLIGHT
BEGIN:STANDARD
TZOFFSETFROM:-0500
TZOFFSETTO:-0600
TZNAME:CST
DTSTART:20271107T070000
END:STANDARD
END:VTIMEZONE
BEGIN:VEVENT
DTSTART;VALUE=DATE:20260507
DTEND;VALUE=DATE:20260513
DTSTAMP:20260423T082902
CREATED:20260106T184602Z
LAST-MODIFIED:20260306T232757Z
UID:10000138-1778115600-1778547599@www.almatravelusa.com
SUMMARY:WSCHODNIE WYBRZEŻE AMERYKI - tam gdzie się narodziły Stany Zjednoczone - 5 DNI
DESCRIPTION: Waszyngton – Filadelfia – Nowy Jork – Niagara\n\n\n\n\n\n\n\n\n\n\nW STANACH ZJEDNOCZONYCH jest wiele miejsc szczególnie odwiedzanych przez rodzimych i zagranicznych turystów. Oprócz piękna przyrody podziwianego w licznych parkach narodowych\, dużą popularnością cieszą się słynne miasta i wielkie metropolie. Bez wątpienia należą do nich usytuowane na wschodnim wybrzeżu Nowy Jork\, Waszyngton i Filadelfia. Wiele ich budowli i obiektów należy do najbardziej rozpoznawalnych miejsc w Stanach Zjednoczonych.  Niektóre stały się sławnymi w świecie symbolami dawniejszych i dzisiejszych wydarzeń historycznych. Jednym z najsłynniejszych takich obiektów jest oczywiście Statua Wolności stojąca na niewielkiej wysepce u ujścia rzeki Hudson do Zatoki Nowojorskiej. Statua\, uznana przez UNESCO za pomnik światowego dziedzictwa kultury\, jest nie tylko symbolem Nowego Jorku\, ale i całych Stanów Zjednoczonych. Najbardziej chyba znanym w świecie drapaczem chmur jest Empire State Building. Zbudowany w 1931 roku wieżowiec\, zaprojektowany także jako kotwicowisko dla sterowców\, jest jednym z najwyższych budynków w Nowym Jorku.↓ \nCHICAGO ⇒ Waszyngton. W 1800 roku miasto stało się stolicą Stanów Zjednoczonych. Najważniejsze obiekty znajdują sie na obszarze tzw. National Mall. Tam ma swoja siedzibę Kapitol i Biały Dom. Waszyngton nazywany jest często miastem pomników. Mamy tam także polskie akcenty pomniki; Tadeusza Kościuszki i Kazimierza Pułaskiego. ⇒ Filadelfia. Przed Waszyngtonem stolicą USA była Filadelfia. Stara część tego portowego miasta jest symbolem amerykańskiej państwowości. W tej najbardziej historycznej mili kwadratowej Stanów Zjednoczonych stoją budynki będące miejscem narodzin nowego państwa. W Independence Hall 4 lipca 1776 roku podpisano Deklarację Niepodległości. Jej ogłoszeniu towarzyszyło bicie Dzwonu Wolności zawieszonego na wieży w tym samym budynku. Blisko tego miejsca\, znajduje się zamienione dzisiaj na muzeum\, skromne mieszkanie\, w którym mieszkał przez kilka miesięcy Tadeusz Kościuszko. ⇒ Nowy Jork to największe amerykańskie miasto. Swoje siedziby ma tutaj wiele międzynarodowych firm i organizacji w tym najważniejsza z nich\, ONZ. Nowy Jork nazywany jest „stolicą świata”. Nowojorska Giełda obraca trylionami dolarów. Mało kto wie\, że 22 metry pod ziemią w budynku Federal Reserve Bank przy Liberty Street 33 zgromadzona największą ilość złota na świecie. ⇒ Wodospad Niagara to grupa trzech wodospadów; Horseshoe Falls\, American Falls i Bridal Veil Falls na granicy Kanady i Stanów Zjednoczonych. Tworzy je rzeka Niagara. Wodospady stanowią ważny cel turystyczny. Okolica oferuje różnorodne atrakcje i aktywności zarówno po stronie kanadyjskiej\, jak i amerykańskiej. W tym mamy rejsy łodzią\, tarasy widokowe i nocne iluminacje. Wodospad jest dostępny przez cały rok\, a każda pora roku oferuje inne wrażenia. ⇒ CHICAGO \n\n\n \n\n  \n\nLINK DO CAŁEGO PROGRAMU
URL:https://www.almatravelusa.com/event/nowy-jork-waszyngton-filadelfia-niagara-5-dni-3/
LOCATION:6606 W Irving Park Rd Chicago Il 60634\, 6606 West Irving Park Road\, Chicago\, IL\, 60634\, United States
CATEGORIES:New York,Washington DC,Ohio,Ilinois
ATTACH;FMTTYPE=image/jpeg:https://www.almatravelusa.com/wp-content/uploads/2025/02/FXC_IwanBaan_SOLMuseum_aerial.jpg
END:VEVENT
BEGIN:VEVENT
DTSTART;VALUE=DATE:20260516
DTEND;VALUE=DATE:20260518
DTSTAMP:20260423T082902
CREATED:20260306T220442Z
LAST-MODIFIED:20260306T220442Z
UID:10000139-1778893200-1778979599@www.almatravelusa.com
SUMMARY:AMISZE - Ludzie wolni w zniewolonym świecie - 1 DZIEŃ
DESCRIPTION:LUDZIE ODMIENNYCH ZASAD – NAZYWAJĄ SIEBIE AMISZAMI\n\n\n\n\nWSPÓLNOTA\, KTÓRA ISTNIEJE I ROZKWITA OD PONAD 300 LAT \n\n\nNA MARGINESIE SPOŁECZEŃSTWA\n\n\n\n\nPrzez dziesięciolecia Amisze w Stanach Zjednoczonych żyli na marginesie społeczeństwa i mało kto o nich słyszał. W miarę jednak czasu jednak zainteresowanie tymi dziwnymi z wyglądu ludźmi mający długie brody szare stroje i kapelusze rosło. Nie tylko dlatego\, że byli i są inni\, ale dlatego\, że ich sposób życia przynosi owoce\, za którymi tęsknią coraz bardziej Amerykanie; a więc maja prawdziwe życie rodzinne\, wspólnotą społeczną\, która przynosi spokój w życiu\, bezpieczeństwo i dobrobyt. Amisze nie cierpią na samotność\, żyją zgodnie z naturą\, która rewanżuje się im zdrową żywnością\, gdzie średnia życia jest sporo wyższa niż przeciętna\, itd.  Coraz więcej ludzi chce się przekonać na własne oczy jak wygląda życie Amiszów. Proponujemy taka wycieczkę w ten świat niezwykle ciekawych ludzi. Pokazujemy miejsca\, gdzie żyją Amisze\, dosłownie otwieramy drzwi do tej krainy ludzi innych\, którzy oparli się rozpadowi cywilizacyjnemu. \nPrzy okazji odwiedzamy miejsca\, gdzie można zrobić zakupy szczególnie poszukiwanej żywności pochodzącej z farm Amiszy\, która jest dużo bardziej zdrowa i smaczna niż ta oferowana przez sieci handlowe. \n\n\n\n\nWyjazd sprzed biura o godzinie 7:30 rano.\n> Przejazd do Shipshewana w Indianie. Shipshewana to mała miejscowość o populacji 550 mieszkańców\, znana głównie z największego na środkowym zachodzie targowiska. Od maja do października\, w każdy wtorek i środę ponad tysiąc sprzedawców\, w tym wielu Amishów\, oferuje na miejscowym targowisku swoje towary. Jest to miejsce znane z możliwości kupienia wyjątkowych\, unikalnych przedmiotów. „The Shipshewana Flee Market“\, to nie jedyna atrakcja tego miasteczka\, bowiem posiada ono\, aż 95 różnych sklepów a wpływy kultury Amiszów widoczne są tu na każdym kroku.\n> W mieście i na bocznych drogach mija się wiele konnych zaprzęgów wiozących całe amishowskie rodziny\, które zamieszkują najbliższą okolicę.\n> Z Shipshewana pojedziemy \, przez centrum Amish Country. Zatrzymamy się w uroczym miasteczku Nappanee i pobliskim Amish Acres. To małe i urocze miasto jest uważane przez Time Magazine za „ One of America’s best Small Towns“. Natomiast Amish Acres to bardzo znamy w USA zespół 18 historycznych budynków\, przedstawiających amiszowską tradycję i oferujących rozrywki dla turystów w każdym wieku.\n> Będziemy mieli możliwość obiadu z amiszowskimi potrawami w jednej z restauracji amiszowskich. \n\n\n \n\n\n\n\n\n\nATRAKCJE M. INNYMI:\n\n\n\n\n\n\n\n\n\nPchli Targ w Shipshewana i miasteczko\n\n\n\n\nPchli targ Shipshewana jest otwarty we wtorki i środy od 30 kwietnia do 25 września 2024 r. w godzinach 8:00–16:00 czasu wschodniego\, a także specjalne targi świąteczne i weekendowe. Prawdziwy wybór towarów na wystrój domu\, odzież\, produkty\, rośliny\, narzędzia\, rękodzieło\, książki\, artykuły kosmetyczne\, akcesoria\, przedmioty ręcznie robione\, przedmioty vintage i wszystko\, co można sobie wyobrazić. Cześć stoisk prowadzonych przez Amiszów. Mozna skorzystać z wycieczki bryczką po okolicy zamieszkanej przez Amiszów z przewodnikiem.  Odwiedzający Shipshewana uwielbiają zwiedzać liczne piętra i sklepy Davis Mercantile i Yoder’s Red Barn Shoppes\, a także zakamarki promenady\, alejki i małe boczne uliczki w centrum miasta. Jeszcze inni lubią odwiedzać Shipshewanę ze względu na urok\, ciepłą gościnność i staromodny styl życia.  Kupuj produkty z asortymentu amiszów i mennonitów dla amiszów\, takie jak ręcznie robione drewniane zabawki\, wyjątkowe domki dla ptaków\, szelki\, książki kucharskie amiszów\, sukienki dla lalek amiszów. Shipshewana w Indianie to centrum życia społeczności amiszów i jest uważana za „serce krainy amiszów”. Chociaż samo miasteczko ma niewielką populację „angielską” (nie należącą do amiszów)\, jest otoczone przez dużą społeczność amiszów\, liczącą około 23 000 osób mieszkających w okolicznych hrabstwach. Miejscowość jest popularnym celem turystycznym dla osób chcących poznać kulturę amiszów \n\n♦  PROGRAM WYCIECZKI – KLIKNIJ
URL:https://www.almatravelusa.com/event/amisze-ludzie-wolni-w-zniewolonym-swiecie-1-dzien/
LOCATION:6606 W Irving Park Rd Chicago Il 60634\, 6606 West Irving Park Road\, Chicago\, IL\, 60634\, United States
CATEGORIES:Indiana,Ilinois
ATTACH;FMTTYPE=image/jpeg:https://www.almatravelusa.com/wp-content/uploads/2024/01/Amisz-DSC00491-fb.jpg
END:VEVENT
BEGIN:VEVENT
DTSTART;VALUE=DATE:20260528
DTEND;VALUE=DATE:20260603
DTSTAMP:20260423T082902
CREATED:20260306T233003Z
LAST-MODIFIED:20260306T233116Z
UID:10000142-1779930000-1780361999@www.almatravelusa.com
SUMMARY:WSCHODNIE WYBRZEŻE AMERYKI - tam gdzie się narodziły Stany Zjednoczone - 5 DNI
DESCRIPTION: Waszyngton – Filadelfia – Nowy Jork – Niagara\n\n\n\n\n\n\n\n\n\n\nW STANACH ZJEDNOCZONYCH jest wiele miejsc szczególnie odwiedzanych przez rodzimych i zagranicznych turystów. Oprócz piękna przyrody podziwianego w licznych parkach narodowych\, dużą popularnością cieszą się słynne miasta i wielkie metropolie. Bez wątpienia należą do nich usytuowane na wschodnim wybrzeżu Nowy Jork\, Waszyngton i Filadelfia. Wiele ich budowli i obiektów należy do najbardziej rozpoznawalnych miejsc w Stanach Zjednoczonych.  Niektóre stały się sławnymi w świecie symbolami dawniejszych i dzisiejszych wydarzeń historycznych. Jednym z najsłynniejszych takich obiektów jest oczywiście Statua Wolności stojąca na niewielkiej wysepce u ujścia rzeki Hudson do Zatoki Nowojorskiej. Statua\, uznana przez UNESCO za pomnik światowego dziedzictwa kultury\, jest nie tylko symbolem Nowego Jorku\, ale i całych Stanów Zjednoczonych. Najbardziej chyba znanym w świecie drapaczem chmur jest Empire State Building. Zbudowany w 1931 roku wieżowiec\, zaprojektowany także jako kotwicowisko dla sterowców\, jest jednym z najwyższych budynków w Nowym Jorku.↓ \nCHICAGO ⇒ Waszyngton. W 1800 roku miasto stało się stolicą Stanów Zjednoczonych. Najważniejsze obiekty znajdują sie na obszarze tzw. National Mall. Tam ma swoja siedzibę Kapitol i Biały Dom. Waszyngton nazywany jest często miastem pomników. Mamy tam także polskie akcenty pomniki; Tadeusza Kościuszki i Kazimierza Pułaskiego. ⇒ Filadelfia. Przed Waszyngtonem stolicą USA była Filadelfia. Stara część tego portowego miasta jest symbolem amerykańskiej państwowości. W tej najbardziej historycznej mili kwadratowej Stanów Zjednoczonych stoją budynki będące miejscem narodzin nowego państwa. W Independence Hall 4 lipca 1776 roku podpisano Deklarację Niepodległości. Jej ogłoszeniu towarzyszyło bicie Dzwonu Wolności zawieszonego na wieży w tym samym budynku. Blisko tego miejsca\, znajduje się zamienione dzisiaj na muzeum\, skromne mieszkanie\, w którym mieszkał przez kilka miesięcy Tadeusz Kościuszko. ⇒ Nowy Jork to największe amerykańskie miasto. Swoje siedziby ma tutaj wiele międzynarodowych firm i organizacji w tym najważniejsza z nich\, ONZ. Nowy Jork nazywany jest „stolicą świata”. Nowojorska Giełda obraca trylionami dolarów. Mało kto wie\, że 22 metry pod ziemią w budynku Federal Reserve Bank przy Liberty Street 33 zgromadzona największą ilość złota na świecie. ⇒ Wodospad Niagara to grupa trzech wodospadów; Horseshoe Falls\, American Falls i Bridal Veil Falls na granicy Kanady i Stanów Zjednoczonych. Tworzy je rzeka Niagara. Wodospady stanowią ważny cel turystyczny. Okolica oferuje różnorodne atrakcje i aktywności zarówno po stronie kanadyjskiej\, jak i amerykańskiej. W tym mamy rejsy łodzią\, tarasy widokowe i nocne iluminacje. Wodospad jest dostępny przez cały rok\, a każda pora roku oferuje inne wrażenia. ⇒ CHICAGO \n\n\n \n\n  \n\nLINK DO CAŁEGO PROGRAMU
URL:https://www.almatravelusa.com/event/wschodnie-wybrzeze-ameryki-tam-gdzie-sie-narodzily-stany-zjednoczone-5-dni/
LOCATION:6606 W Irving Park Rd Chicago Il 60634\, 6606 West Irving Park Road\, Chicago\, IL\, 60634\, United States
CATEGORIES:New York,Washington DC,Ohio,Ilinois
ATTACH;FMTTYPE=image/jpeg:https://www.almatravelusa.com/wp-content/uploads/2025/02/FXC_IwanBaan_SOLMuseum_aerial.jpg
END:VEVENT
BEGIN:VEVENT
DTSTART;VALUE=DATE:20260625
DTEND;VALUE=DATE:20260701
DTSTAMP:20260423T082902
CREATED:20260306T233302Z
LAST-MODIFIED:20260306T233342Z
UID:10000143-1782349200-1782781199@www.almatravelusa.com
SUMMARY:WSCHODNIE WYBRZEŻE AMERYKI - tam gdzie się narodziły Stany Zjednoczone - 5 DNI
DESCRIPTION: Waszyngton – Filadelfia – Nowy Jork – Niagara\n\n\n\n\n\n\n\n\n\n\nW STANACH ZJEDNOCZONYCH jest wiele miejsc szczególnie odwiedzanych przez rodzimych i zagranicznych turystów. Oprócz piękna przyrody podziwianego w licznych parkach narodowych\, dużą popularnością cieszą się słynne miasta i wielkie metropolie. Bez wątpienia należą do nich usytuowane na wschodnim wybrzeżu Nowy Jork\, Waszyngton i Filadelfia. Wiele ich budowli i obiektów należy do najbardziej rozpoznawalnych miejsc w Stanach Zjednoczonych.  Niektóre stały się sławnymi w świecie symbolami dawniejszych i dzisiejszych wydarzeń historycznych. Jednym z najsłynniejszych takich obiektów jest oczywiście Statua Wolności stojąca na niewielkiej wysepce u ujścia rzeki Hudson do Zatoki Nowojorskiej. Statua\, uznana przez UNESCO za pomnik światowego dziedzictwa kultury\, jest nie tylko symbolem Nowego Jorku\, ale i całych Stanów Zjednoczonych. Najbardziej chyba znanym w świecie drapaczem chmur jest Empire State Building. Zbudowany w 1931 roku wieżowiec\, zaprojektowany także jako kotwicowisko dla sterowców\, jest jednym z najwyższych budynków w Nowym Jorku.↓ \nCHICAGO ⇒ Waszyngton. W 1800 roku miasto stało się stolicą Stanów Zjednoczonych. Najważniejsze obiekty znajdują sie na obszarze tzw. National Mall. Tam ma swoja siedzibę Kapitol i Biały Dom. Waszyngton nazywany jest często miastem pomników. Mamy tam także polskie akcenty pomniki; Tadeusza Kościuszki i Kazimierza Pułaskiego. ⇒ Filadelfia. Przed Waszyngtonem stolicą USA była Filadelfia. Stara część tego portowego miasta jest symbolem amerykańskiej państwowości. W tej najbardziej historycznej mili kwadratowej Stanów Zjednoczonych stoją budynki będące miejscem narodzin nowego państwa. W Independence Hall 4 lipca 1776 roku podpisano Deklarację Niepodległości. Jej ogłoszeniu towarzyszyło bicie Dzwonu Wolności zawieszonego na wieży w tym samym budynku. Blisko tego miejsca\, znajduje się zamienione dzisiaj na muzeum\, skromne mieszkanie\, w którym mieszkał przez kilka miesięcy Tadeusz Kościuszko. ⇒ Nowy Jork to największe amerykańskie miasto. Swoje siedziby ma tutaj wiele międzynarodowych firm i organizacji w tym najważniejsza z nich\, ONZ. Nowy Jork nazywany jest „stolicą świata”. Nowojorska Giełda obraca trylionami dolarów. Mało kto wie\, że 22 metry pod ziemią w budynku Federal Reserve Bank przy Liberty Street 33 zgromadzona największą ilość złota na świecie. ⇒ Wodospad Niagara to grupa trzech wodospadów; Horseshoe Falls\, American Falls i Bridal Veil Falls na granicy Kanady i Stanów Zjednoczonych. Tworzy je rzeka Niagara. Wodospady stanowią ważny cel turystyczny. Okolica oferuje różnorodne atrakcje i aktywności zarówno po stronie kanadyjskiej\, jak i amerykańskiej. W tym mamy rejsy łodzią\, tarasy widokowe i nocne iluminacje. Wodospad jest dostępny przez cały rok\, a każda pora roku oferuje inne wrażenia. ⇒ CHICAGO \n\n\n \n\n  \n\nLINK DO CAŁEGO PROGRAMU
URL:https://www.almatravelusa.com/event/wschodnie-wybrzeze-ameryki-tam-gdzie-sie-narodzily-stany-zjednoczone-5-dni-2/
LOCATION:6606 W Irving Park Rd Chicago Il 60634\, 6606 West Irving Park Road\, Chicago\, IL\, 60634\, United States
CATEGORIES:New York,Washington DC,Ohio,Ilinois
ATTACH;FMTTYPE=image/jpeg:https://www.almatravelusa.com/wp-content/uploads/2025/02/FXC_IwanBaan_SOLMuseum_aerial.jpg
END:VEVENT
BEGIN:VEVENT
DTSTART;VALUE=DATE:20260810
DTEND;VALUE=DATE:20260816
DTSTAMP:20260423T082902
CREATED:20260306T233445Z
LAST-MODIFIED:20260306T233454Z
UID:10000144-1786323600-1786755599@www.almatravelusa.com
SUMMARY:WSCHODNIE WYBRZEŻE AMERYKI - tam gdzie się narodziły Stany Zjednoczone - 5 DNI
DESCRIPTION: Waszyngton – Filadelfia – Nowy Jork – Niagara\n\n\n\n\n\n\n\n\n\n\nW STANACH ZJEDNOCZONYCH jest wiele miejsc szczególnie odwiedzanych przez rodzimych i zagranicznych turystów. Oprócz piękna przyrody podziwianego w licznych parkach narodowych\, dużą popularnością cieszą się słynne miasta i wielkie metropolie. Bez wątpienia należą do nich usytuowane na wschodnim wybrzeżu Nowy Jork\, Waszyngton i Filadelfia. Wiele ich budowli i obiektów należy do najbardziej rozpoznawalnych miejsc w Stanach Zjednoczonych.  Niektóre stały się sławnymi w świecie symbolami dawniejszych i dzisiejszych wydarzeń historycznych. Jednym z najsłynniejszych takich obiektów jest oczywiście Statua Wolności stojąca na niewielkiej wysepce u ujścia rzeki Hudson do Zatoki Nowojorskiej. Statua\, uznana przez UNESCO za pomnik światowego dziedzictwa kultury\, jest nie tylko symbolem Nowego Jorku\, ale i całych Stanów Zjednoczonych. Najbardziej chyba znanym w świecie drapaczem chmur jest Empire State Building. Zbudowany w 1931 roku wieżowiec\, zaprojektowany także jako kotwicowisko dla sterowców\, jest jednym z najwyższych budynków w Nowym Jorku.↓ \nCHICAGO ⇒ Waszyngton. W 1800 roku miasto stało się stolicą Stanów Zjednoczonych. Najważniejsze obiekty znajdują sie na obszarze tzw. National Mall. Tam ma swoja siedzibę Kapitol i Biały Dom. Waszyngton nazywany jest często miastem pomników. Mamy tam także polskie akcenty pomniki; Tadeusza Kościuszki i Kazimierza Pułaskiego. ⇒ Filadelfia. Przed Waszyngtonem stolicą USA była Filadelfia. Stara część tego portowego miasta jest symbolem amerykańskiej państwowości. W tej najbardziej historycznej mili kwadratowej Stanów Zjednoczonych stoją budynki będące miejscem narodzin nowego państwa. W Independence Hall 4 lipca 1776 roku podpisano Deklarację Niepodległości. Jej ogłoszeniu towarzyszyło bicie Dzwonu Wolności zawieszonego na wieży w tym samym budynku. Blisko tego miejsca\, znajduje się zamienione dzisiaj na muzeum\, skromne mieszkanie\, w którym mieszkał przez kilka miesięcy Tadeusz Kościuszko. ⇒ Nowy Jork to największe amerykańskie miasto. Swoje siedziby ma tutaj wiele międzynarodowych firm i organizacji w tym najważniejsza z nich\, ONZ. Nowy Jork nazywany jest „stolicą świata”. Nowojorska Giełda obraca trylionami dolarów. Mało kto wie\, że 22 metry pod ziemią w budynku Federal Reserve Bank przy Liberty Street 33 zgromadzona największą ilość złota na świecie. ⇒ Wodospad Niagara to grupa trzech wodospadów; Horseshoe Falls\, American Falls i Bridal Veil Falls na granicy Kanady i Stanów Zjednoczonych. Tworzy je rzeka Niagara. Wodospady stanowią ważny cel turystyczny. Okolica oferuje różnorodne atrakcje i aktywności zarówno po stronie kanadyjskiej\, jak i amerykańskiej. W tym mamy rejsy łodzią\, tarasy widokowe i nocne iluminacje. Wodospad jest dostępny przez cały rok\, a każda pora roku oferuje inne wrażenia. ⇒ CHICAGO \n\n\n \n\n  \n\nLINK DO CAŁEGO PROGRAMU
URL:https://www.almatravelusa.com/event/wschodnie-wybrzeze-ameryki-tam-gdzie-sie-narodzily-stany-zjednoczone-5-dni-3/
LOCATION:6606 W Irving Park Rd Chicago Il 60634\, 6606 West Irving Park Road\, Chicago\, IL\, 60634\, United States
CATEGORIES:New York,Washington DC,Ohio,Ilinois
ATTACH;FMTTYPE=image/jpeg:https://www.almatravelusa.com/wp-content/uploads/2025/02/FXC_IwanBaan_SOLMuseum_aerial.jpg
END:VEVENT
BEGIN:VEVENT
DTSTART;VALUE=DATE:20260910
DTEND;VALUE=DATE:20260916
DTSTAMP:20260423T082902
CREATED:20260306T233603Z
LAST-MODIFIED:20260306T233613Z
UID:10000145-1789002000-1789433999@www.almatravelusa.com
SUMMARY:WSCHODNIE WYBRZEŻE AMERYKI - tam gdzie się narodziły Stany Zjednoczone - 5 DNI
DESCRIPTION: Waszyngton – Filadelfia – Nowy Jork – Niagara\n\n\n\n\n\n\n\n\n\n\nW STANACH ZJEDNOCZONYCH jest wiele miejsc szczególnie odwiedzanych przez rodzimych i zagranicznych turystów. Oprócz piękna przyrody podziwianego w licznych parkach narodowych\, dużą popularnością cieszą się słynne miasta i wielkie metropolie. Bez wątpienia należą do nich usytuowane na wschodnim wybrzeżu Nowy Jork\, Waszyngton i Filadelfia. Wiele ich budowli i obiektów należy do najbardziej rozpoznawalnych miejsc w Stanach Zjednoczonych.  Niektóre stały się sławnymi w świecie symbolami dawniejszych i dzisiejszych wydarzeń historycznych. Jednym z najsłynniejszych takich obiektów jest oczywiście Statua Wolności stojąca na niewielkiej wysepce u ujścia rzeki Hudson do Zatoki Nowojorskiej. Statua\, uznana przez UNESCO za pomnik światowego dziedzictwa kultury\, jest nie tylko symbolem Nowego Jorku\, ale i całych Stanów Zjednoczonych. Najbardziej chyba znanym w świecie drapaczem chmur jest Empire State Building. Zbudowany w 1931 roku wieżowiec\, zaprojektowany także jako kotwicowisko dla sterowców\, jest jednym z najwyższych budynków w Nowym Jorku.↓ \nCHICAGO ⇒ Waszyngton. W 1800 roku miasto stało się stolicą Stanów Zjednoczonych. Najważniejsze obiekty znajdują sie na obszarze tzw. National Mall. Tam ma swoja siedzibę Kapitol i Biały Dom. Waszyngton nazywany jest często miastem pomników. Mamy tam także polskie akcenty pomniki; Tadeusza Kościuszki i Kazimierza Pułaskiego. ⇒ Filadelfia. Przed Waszyngtonem stolicą USA była Filadelfia. Stara część tego portowego miasta jest symbolem amerykańskiej państwowości. W tej najbardziej historycznej mili kwadratowej Stanów Zjednoczonych stoją budynki będące miejscem narodzin nowego państwa. W Independence Hall 4 lipca 1776 roku podpisano Deklarację Niepodległości. Jej ogłoszeniu towarzyszyło bicie Dzwonu Wolności zawieszonego na wieży w tym samym budynku. Blisko tego miejsca\, znajduje się zamienione dzisiaj na muzeum\, skromne mieszkanie\, w którym mieszkał przez kilka miesięcy Tadeusz Kościuszko. ⇒ Nowy Jork to największe amerykańskie miasto. Swoje siedziby ma tutaj wiele międzynarodowych firm i organizacji w tym najważniejsza z nich\, ONZ. Nowy Jork nazywany jest „stolicą świata”. Nowojorska Giełda obraca trylionami dolarów. Mało kto wie\, że 22 metry pod ziemią w budynku Federal Reserve Bank przy Liberty Street 33 zgromadzona największą ilość złota na świecie. ⇒ Wodospad Niagara to grupa trzech wodospadów; Horseshoe Falls\, American Falls i Bridal Veil Falls na granicy Kanady i Stanów Zjednoczonych. Tworzy je rzeka Niagara. Wodospady stanowią ważny cel turystyczny. Okolica oferuje różnorodne atrakcje i aktywności zarówno po stronie kanadyjskiej\, jak i amerykańskiej. W tym mamy rejsy łodzią\, tarasy widokowe i nocne iluminacje. Wodospad jest dostępny przez cały rok\, a każda pora roku oferuje inne wrażenia. ⇒ CHICAGO \n\n\n \n\n  \n\nLINK DO CAŁEGO PROGRAMU
URL:https://www.almatravelusa.com/event/wschodnie-wybrzeze-ameryki-tam-gdzie-sie-narodzily-stany-zjednoczone-5-dni-4/
LOCATION:6606 W Irving Park Rd Chicago Il 60634\, 6606 West Irving Park Road\, Chicago\, IL\, 60634\, United States
CATEGORIES:New York,Washington DC,Ohio,Ilinois
ATTACH;FMTTYPE=image/jpeg:https://www.almatravelusa.com/wp-content/uploads/2025/02/FXC_IwanBaan_SOLMuseum_aerial.jpg
END:VEVENT
END:VCALENDAR