BEGIN:VCALENDAR
VERSION:2.0
PRODID:-//Alma Travel USA - ECPv6.15.20//NONSGML v1.0//EN
CALSCALE:GREGORIAN
METHOD:PUBLISH
X-ORIGINAL-URL:https://www.almatravelusa.com
X-WR-CALDESC:Wydarzenia dla Alma Travel USA
REFRESH-INTERVAL;VALUE=DURATION:PT1H
X-Robots-Tag:noindex
X-PUBLISHED-TTL:PT1H
BEGIN:VTIMEZONE
TZID:America/Chicago
BEGIN:DAYLIGHT
TZOFFSETFROM:-0600
TZOFFSETTO:-0500
TZNAME:CDT
DTSTART:20250309T080000
END:DAYLIGHT
BEGIN:STANDARD
TZOFFSETFROM:-0500
TZOFFSETTO:-0600
TZNAME:CST
DTSTART:20251102T070000
END:STANDARD
BEGIN:DAYLIGHT
TZOFFSETFROM:-0600
TZOFFSETTO:-0500
TZNAME:CDT
DTSTART:20260308T080000
END:DAYLIGHT
BEGIN:STANDARD
TZOFFSETFROM:-0500
TZOFFSETTO:-0600
TZNAME:CST
DTSTART:20261101T070000
END:STANDARD
BEGIN:DAYLIGHT
TZOFFSETFROM:-0600
TZOFFSETTO:-0500
TZNAME:CDT
DTSTART:20270314T080000
END:DAYLIGHT
BEGIN:STANDARD
TZOFFSETFROM:-0500
TZOFFSETTO:-0600
TZNAME:CST
DTSTART:20271107T070000
END:STANDARD
END:VTIMEZONE
BEGIN:VEVENT
DTSTART;VALUE=DATE:20260418
DTEND;VALUE=DATE:20260420
DTSTAMP:20260423T101047
CREATED:20250223T161325Z
LAST-MODIFIED:20260306T220547Z
UID:10000106-1776474000-1776560399@www.almatravelusa.com
SUMMARY:AMISZE - Ludzie wolni w zniewolonym świecie - 1 DZIEŃ
DESCRIPTION:LUDZIE ODMIENNYCH ZASAD – NAZYWAJĄ SIEBIE AMISZAMI\n\n\n\n\nWSPÓLNOTA\, KTÓRA ISTNIEJE I ROZKWITA OD PONAD 300 LAT \n\n\nNA MARGINESIE SPOŁECZEŃSTWA\n\n\n\n\nPrzez dziesięciolecia Amisze w Stanach Zjednoczonych żyli na marginesie społeczeństwa i mało kto o nich słyszał. W miarę jednak czasu jednak zainteresowanie tymi dziwnymi z wyglądu ludźmi mający długie brody szare stroje i kapelusze rosło. Nie tylko dlatego\, że byli i są inni\, ale dlatego\, że ich sposób życia przynosi owoce\, za którymi tęsknią coraz bardziej Amerykanie; a więc maja prawdziwe życie rodzinne\, wspólnotą społeczną\, która przynosi spokój w życiu\, bezpieczeństwo i dobrobyt. Amisze nie cierpią na samotność\, żyją zgodnie z naturą\, która rewanżuje się im zdrową żywnością\, gdzie średnia życia jest sporo wyższa niż przeciętna\, itd.  Coraz więcej ludzi chce się przekonać na własne oczy jak wygląda życie Amiszów. Proponujemy taka wycieczkę w ten świat niezwykle ciekawych ludzi. Pokazujemy miejsca\, gdzie żyją Amisze\, dosłownie otwieramy drzwi do tej krainy ludzi innych\, którzy oparli się rozpadowi cywilizacyjnemu. \nPrzy okazji odwiedzamy miejsca\, gdzie można zrobić zakupy szczególnie poszukiwanej żywności pochodzącej z farm Amiszy\, która jest dużo bardziej zdrowa i smaczna niż ta oferowana przez sieci handlowe. \n\n\n\n\nWyjazd sprzed biura o godzinie 7:30 rano.\n> Przejazd do Shipshewana w Indianie. Shipshewana to mała miejscowość o populacji 550 mieszkańców\, znana głównie z największego na środkowym zachodzie targowiska. Od maja do października\, w każdy wtorek i środę ponad tysiąc sprzedawców\, w tym wielu Amishów\, oferuje na miejscowym targowisku swoje towary. Jest to miejsce znane z możliwości kupienia wyjątkowych\, unikalnych przedmiotów. „The Shipshewana Flee Market“\, to nie jedyna atrakcja tego miasteczka\, bowiem posiada ono\, aż 95 różnych sklepów a wpływy kultury Amiszów widoczne są tu na każdym kroku.\n> W mieście i na bocznych drogach mija się wiele konnych zaprzęgów wiozących całe amishowskie rodziny\, które zamieszkują najbliższą okolicę.\n> Z Shipshewana pojedziemy \, przez centrum Amish Country. Zatrzymamy się w uroczym miasteczku Nappanee i pobliskim Amish Acres. To małe i urocze miasto jest uważane przez Time Magazine za „ One of America’s best Small Towns“. Natomiast Amish Acres to bardzo znamy w USA zespół 18 historycznych budynków\, przedstawiających amiszowską tradycję i oferujących rozrywki dla turystów w każdym wieku.\n> Będziemy mieli możliwość obiadu z amiszowskimi potrawami w jednej z restauracji amiszowskich. \n\n\n \n\n\n\n\n\n\nATRAKCJE M. INNYMI:\n\n\n\n\n\n\n\n\n\nPchli Targ w Shipshewana i miasteczko\n\n\n\n\nPchli targ Shipshewana jest otwarty we wtorki i środy od 30 kwietnia do 25 września 2024 r. w godzinach 8:00–16:00 czasu wschodniego\, a także specjalne targi świąteczne i weekendowe. Prawdziwy wybór towarów na wystrój domu\, odzież\, produkty\, rośliny\, narzędzia\, rękodzieło\, książki\, artykuły kosmetyczne\, akcesoria\, przedmioty ręcznie robione\, przedmioty vintage i wszystko\, co można sobie wyobrazić. Cześć stoisk prowadzonych przez Amiszów. Mozna skorzystać z wycieczki bryczką po okolicy zamieszkanej przez Amiszów z przewodnikiem.  Odwiedzający Shipshewana uwielbiają zwiedzać liczne piętra i sklepy Davis Mercantile i Yoder’s Red Barn Shoppes\, a także zakamarki promenady\, alejki i małe boczne uliczki w centrum miasta. Jeszcze inni lubią odwiedzać Shipshewanę ze względu na urok\, ciepłą gościnność i staromodny styl życia.  Kupuj produkty z asortymentu amiszów i mennonitów dla amiszów\, takie jak ręcznie robione drewniane zabawki\, wyjątkowe domki dla ptaków\, szelki\, książki kucharskie amiszów\, sukienki dla lalek amiszów. Shipshewana w Indianie to centrum życia społeczności amiszów i jest uważana za „serce krainy amiszów”. Chociaż samo miasteczko ma niewielką populację „angielską” (nie należącą do amiszów)\, jest otoczone przez dużą społeczność amiszów\, liczącą około 23 000 osób mieszkających w okolicznych hrabstwach. Miejscowość jest popularnym celem turystycznym dla osób chcących poznać kulturę amiszów \n\n♦  PROGRAM WYCIECZKI – KLIKNIJ
URL:https://www.almatravelusa.com/event/amisze-ludzie-wolni-w-zniewolonym-swiecie-1-dzien-2/
LOCATION:6606 W Irving Park Rd Chicago Il 60634\, 6606 West Irving Park Road\, Chicago\, IL\, 60634\, United States
CATEGORIES:Indiana,Ilinois
ATTACH;FMTTYPE=image/jpeg:https://www.almatravelusa.com/wp-content/uploads/2024/01/Amisz-DSC00491-fb.jpg
END:VEVENT
END:VCALENDAR