BEGIN:VCALENDAR
VERSION:2.0
PRODID:-//Alma Travel USA - ECPv6.15.20//NONSGML v1.0//EN
CALSCALE:GREGORIAN
METHOD:PUBLISH
X-ORIGINAL-URL:https://www.almatravelusa.com
X-WR-CALDESC:Wydarzenia dla Alma Travel USA
REFRESH-INTERVAL;VALUE=DURATION:PT1H
X-Robots-Tag:noindex
X-PUBLISHED-TTL:PT1H
BEGIN:VTIMEZONE
TZID:America/Chicago
BEGIN:DAYLIGHT
TZOFFSETFROM:-0600
TZOFFSETTO:-0500
TZNAME:CDT
DTSTART:20250309T080000
END:DAYLIGHT
BEGIN:STANDARD
TZOFFSETFROM:-0500
TZOFFSETTO:-0600
TZNAME:CST
DTSTART:20251102T070000
END:STANDARD
BEGIN:DAYLIGHT
TZOFFSETFROM:-0600
TZOFFSETTO:-0500
TZNAME:CDT
DTSTART:20260308T080000
END:DAYLIGHT
BEGIN:STANDARD
TZOFFSETFROM:-0500
TZOFFSETTO:-0600
TZNAME:CST
DTSTART:20261101T070000
END:STANDARD
BEGIN:DAYLIGHT
TZOFFSETFROM:-0600
TZOFFSETTO:-0500
TZNAME:CDT
DTSTART:20270314T080000
END:DAYLIGHT
BEGIN:STANDARD
TZOFFSETFROM:-0500
TZOFFSETTO:-0600
TZNAME:CST
DTSTART:20271107T070000
END:STANDARD
END:VTIMEZONE
BEGIN:VEVENT
DTSTART;VALUE=DATE:20260421
DTEND;VALUE=DATE:20260423
DTSTAMP:20260423T064348
CREATED:20250223T154856Z
LAST-MODIFIED:20260306T222005Z
UID:10000097-1776733200-1776819599@www.almatravelusa.com
SUMMARY:CHICAGO - Najpiękniejsze miasto w USA -1 lub 2 DNI
DESCRIPTION:Pokazujemy to co najciekawsze – Współczesność i historia Chicago\n\nChicago to tętniąca życiem\, wielokulturowa metropolia na Środkowym Zachodzie Stanów Zjednoczonych\, znana z ikonicznej architektury\, pizzy w stylu deep-dish\, muzyki bluesowej i jazzowej\, różnorodnych dzielnic\, rozległych parków wzdłuż jeziora Michigan oraz silnego ducha charakterystycznego dla mieszkańców Środkowego Zachodu. Miasto to uosabia siłę i determinację\, oferując światowej klasy sztukę\, finanse i pasjonującą kulturę sportową\, a także atrakcje dla każdego – od historycznego centrum po unikalną atmosferę poszczególnych dzielnic. Przydomki i motto: Chicago jest powszechnie nazywane „Wietrznym Miastem” (nazwa często przypisywana raczej agresywnym politykom z XIX wieku niż pogodzie)\, a także „Miastem Wielkich Ramion” i „Drugim Miastem”. Jego oficjalne motto to łacińskie „Urbs in Horto” („Miasto w ogrodzie”)\, nawiązujące do rozległego systemu parków. Miasto zajmuje powierzchnię około 235 mil kwadratowych i leży na płaskiej równinie polodowcowej. Jest podzielone na trzy główne części (północną\, południową i zachodnią) przez rzekę Chicago i jej odnogi\, których bieg został odwrócony w 1900 roku dzięki inżynieryjnemu przedsięwzięciu mającemu na celu zarządzanie ściekami. Po wielkim pożarze Chicago w 1871 roku miasto szybko odbudowało się i stało się kolebką drapaczy chmur o stalowej konstrukcji oraz „szkoły chicagowskiej” w architekturze. Charakterystyczną panoramę miasta zdobią takie budowle jak Willis Tower (dawniej Sears Tower) i John Hancock Center. Chicago wniosło znaczący wkład w kulturę amerykańską\, szczególnie w muzyce (miejsce narodzin elektrycznego bluesa\, muzyki house i gospel)\, teatrze i komedii improwizowanej\, z takimi słynnymi grupami jak The Second City. Jest siedzibą światowej\n\n\n\nChicago to druga Warszawa?\n  \n\n\n\n\n\n\n  \n\n\n\n\nChicago Wietrzne miasto\nChicago przez Polaków nazywane jest drugim miastem polskim po Warszawie. Legenda nieco rozmija się z prawdą\, ale nie zmienia to faktu\, że Polacy są jedna z najliczniejszych grup etnicznych w aglomeracji chicagowskiej. Chicago ma bardzo liczną i wpływową polsko-amerykańską społeczność. Obszar metropolitalny Chicago zamieszkuje ogromna liczba osób polskiego pochodzenia\, szacowana na blisko dwa miliony Polaków w szerszym regionie. Miasto jest siedzibą licznych polskich instytucji kulturalnych\, festiwali i wydarzeń\, takich jak coroczna parada z okazji Dnia Konstytucji 3 Maja. Obszary takie jak Jackowo (często nazywane „polskim centrum miasta”) historycznie były centrami życia polskiej społeczności\, z polskojęzycznymi firmami\, restauracjami i kościołami. \n\n\n\n\n\n\n\n\n\nLINK DO PROGRAMU WYCIECZKI – KLIKNIJ!
URL:https://www.almatravelusa.com/event/chicago-wietrzne-miasto-6/
LOCATION:Chicago\, Chicago\, United States
CATEGORIES:Chicago,Ilinois
ATTACH;FMTTYPE=image/jpeg:https://www.almatravelusa.com/wp-content/uploads/2024/01/Chicago.jpg
ORGANIZER;CN="ALMA TRAVEL USA":MAILTO:rogalusa@gmail.com
END:VEVENT
BEGIN:VEVENT
DTSTART;VALUE=DATE:20260422
DTEND;VALUE=DATE:20260424
DTSTAMP:20260423T064348
CREATED:20250223T153443Z
LAST-MODIFIED:20260306T231809Z
UID:10000092-1776819600-1776905999@www.almatravelusa.com
SUMMARY:MILWAUKEE - Miasto\, które stworzyli Polacy i Niemcy - 1 DZIEŃ
DESCRIPTION:NAJWIĘKSZE MIASTO W STANIE WISCONSIN – HISTORIA I TERAŹNIEJSZOŚĆ \n\n\n\n\n\nMilwaukee ośrodek administracyjny\, położony na zachodnim brzegu jeziora Michigan. Miasto położone jest u zbiegu rzek Milwaukee\, Menomonee i Kinnickinnic\, około 150 km na północ od Chicago. To największy ośrodek stanu Wisconsin. W 2020 roku liczyło 577 222 mieszkańców. Obszar  metropolitalny Milwaukee obejmuje także miasta Waukesha\, Wauwatosa\, West Allis i Racine. W sumie jest to 1 574 731 mieszkańców (2020). Jego historię w XIX wieku tworzyli polscy i niemieccy imigranci. W tej chwili nadal jest to centrum kultury niemiecko-amerykańskiej. Szczególnie znane ze swojego przemysłu piwowarskiego i Muzeum Harleya Davidsona. W ostatnich latach Milwaukee przeszło kilka projektów deweloperskich\, a niektóre z nich wzbogaciły panoramę miasta. \nLINK DO PROGRAMU WYCIECZKI
URL:https://www.almatravelusa.com/event/milwaukee-wspaniale-miejsce-nad-wspanialym-jeziorem-3/
CATEGORIES:Wisconsin
ATTACH;FMTTYPE=image/jpeg:https://www.almatravelusa.com/wp-content/uploads/2024/02/Milwaukee-Basilica-web-site-DSC09294-300-x-325.jpg
END:VEVENT
END:VCALENDAR