BEGIN:VCALENDAR
VERSION:2.0
PRODID:-//Alma Travel USA - ECPv6.15.20//NONSGML v1.0//EN
CALSCALE:GREGORIAN
METHOD:PUBLISH
X-ORIGINAL-URL:https://www.almatravelusa.com
X-WR-CALDESC:Wydarzenia dla Alma Travel USA
REFRESH-INTERVAL;VALUE=DURATION:PT1H
X-Robots-Tag:noindex
X-PUBLISHED-TTL:PT1H
BEGIN:VTIMEZONE
TZID:America/Chicago
BEGIN:DAYLIGHT
TZOFFSETFROM:-0600
TZOFFSETTO:-0500
TZNAME:CDT
DTSTART:20250309T080000
END:DAYLIGHT
BEGIN:STANDARD
TZOFFSETFROM:-0500
TZOFFSETTO:-0600
TZNAME:CST
DTSTART:20251102T070000
END:STANDARD
BEGIN:DAYLIGHT
TZOFFSETFROM:-0600
TZOFFSETTO:-0500
TZNAME:CDT
DTSTART:20260308T080000
END:DAYLIGHT
BEGIN:STANDARD
TZOFFSETFROM:-0500
TZOFFSETTO:-0600
TZNAME:CST
DTSTART:20261101T070000
END:STANDARD
BEGIN:DAYLIGHT
TZOFFSETFROM:-0600
TZOFFSETTO:-0500
TZNAME:CDT
DTSTART:20270314T080000
END:DAYLIGHT
BEGIN:STANDARD
TZOFFSETFROM:-0500
TZOFFSETTO:-0600
TZNAME:CST
DTSTART:20271107T070000
END:STANDARD
END:VTIMEZONE
BEGIN:VEVENT
DTSTART;VALUE=DATE:20260717
DTEND;VALUE=DATE:20260724
DTSTAMP:20260423T145547
CREATED:20260210T223556Z
LAST-MODIFIED:20260307T000804Z
UID:10000133-1784250000-1784768399@www.almatravelusa.com
SUMMARY:LAS VEGAS I DOLINA WESTERNOWA - wielkie kaniony - 6 dni - STYCZEŃ
DESCRIPTION:WYCIECZKA – WSTĘP \n\n\nZobaczymy to najciekawsze w Nevadzie\, Arizonie i Utah. Podczas tej 6-Dniowej wycieczki odwiedzimy najpierw Las Vegas potem Zion National Park. W Monument Valley spotkamy się z przewodnikiem ze szczepu Navajo\, który zawiezie nas w najciekawsze miejsca doliny. W drodze do malowniczego jeziora Powell zatrzymamy się przy tamie Glen Canyon. Zobaczymy cudowny kanion Antylopy. W końcu dotrzemy do Grand Canyon. Dalej przejedziemy legendarna Drogą 66. Odwiedzimy Tamę Hoovera i na końcu wycieczki dalej będziemy zaznajamiać się z atrakcjami Las Vegas. \n\n \n\n\n  \n\nLINK DO PROGRAMU
URL:https://www.almatravelusa.com/event/las-vegas-kaniony-i-dolina-westernowa-6-dni-styczen/
LOCATION:Las Vegas Nevada
CATEGORIES:Arizona,Nevada,Utah
ATTACH;FMTTYPE=image/jpeg:https://www.almatravelusa.com/wp-content/uploads/2024/03/Dolina-westernowa-web-site-20170506_193452.jpg
ORGANIZER;CN="ALMA TRAVEL USA":MAILTO:rogalusa@gmail.com
END:VEVENT
END:VCALENDAR