BEGIN:VCALENDAR
VERSION:2.0
PRODID:-//Alma Travel USA - ECPv6.15.20//NONSGML v1.0//EN
CALSCALE:GREGORIAN
METHOD:PUBLISH
X-ORIGINAL-URL:https://www.almatravelusa.com
X-WR-CALDESC:Wydarzenia dla Alma Travel USA
REFRESH-INTERVAL;VALUE=DURATION:PT1H
X-Robots-Tag:noindex
X-PUBLISHED-TTL:PT1H
BEGIN:VTIMEZONE
TZID:America/Chicago
BEGIN:DAYLIGHT
TZOFFSETFROM:-0600
TZOFFSETTO:-0500
TZNAME:CDT
DTSTART:20250309T080000
END:DAYLIGHT
BEGIN:STANDARD
TZOFFSETFROM:-0500
TZOFFSETTO:-0600
TZNAME:CST
DTSTART:20251102T070000
END:STANDARD
BEGIN:DAYLIGHT
TZOFFSETFROM:-0600
TZOFFSETTO:-0500
TZNAME:CDT
DTSTART:20260308T080000
END:DAYLIGHT
BEGIN:STANDARD
TZOFFSETFROM:-0500
TZOFFSETTO:-0600
TZNAME:CST
DTSTART:20261101T070000
END:STANDARD
BEGIN:DAYLIGHT
TZOFFSETFROM:-0600
TZOFFSETTO:-0500
TZNAME:CDT
DTSTART:20270314T080000
END:DAYLIGHT
BEGIN:STANDARD
TZOFFSETFROM:-0500
TZOFFSETTO:-0600
TZNAME:CST
DTSTART:20271107T070000
END:STANDARD
END:VTIMEZONE
BEGIN:VEVENT
DTSTART;VALUE=DATE:20260605
DTEND;VALUE=DATE:20260618
DTSTAMP:20260423T181449
CREATED:20250206T182207Z
LAST-MODIFIED:20260306T235632Z
UID:10000072-1780621200-1781657999@www.almatravelusa.com
SUMMARY:KLEJNOTY USA - Parki Narodowe i miasta Dzikiego Zachodu - 12 DNI
DESCRIPTION:– Ta wycieczka zmieni twoje życie!\n\n\n\n\n\n12 Dni – stany NEVADA\, KALIFORNIA\, UTAH i ARIZONA\n\n\nOszałamiające krajobrazy\, są tak fascynujące\, że pozostaną na zawsze w Twojej pamięci… niesamowite czerwone łuki skalne otwierające się przed Tobą niczym wielkie wrota\, oferujące poczucie nieograniczonych możliwości… kaniony\, monumentalne ostańce i ogromne klify\, jakby wyrzeźbione przez olbrzyma w celu utworzenia wyspy na niebie… Fantazyjne kilkudziesięciometrowe kominy skalne kierują nasz wzrok ku górze\, podczas gdy bogowie i legendy krążą nad nami… jak przestrzeń pustyni podnosi na duchu i wzmacnia ludzkiego ducha. I w drodze kolorowe miasta\, których miejsca wyznaczyli Indianie\, a rozkwitły dzięki odwadze i desperacji pionierów. (…) \nPROGRAM WYCIECZKI: Zobaczymy między innymi: Las Vegas\, Zion National Park i Bryce Canyon National Park. Na dłużej zatrzymamy się w miejscowości Moab w Utah. Odwiedzimy znajdujące się w sąsiedztwie trzy niezwykłe parki; Arches National Park\, Canyonland National Park i Death Horse State Park. W Monument Valley spotkamy się z przewodnikiem z plemienia Navajo\, który zawiezie nas w najciekawsze miejsca doliny. W drodze do malowniczego jeziora Powell zatrzymamy się przy tamie Glen Canyon. W Page zobaczymy występ zespołu folklorystycznego Indian Navajo. W kolejny dzień wycieczki odwiedzimy cud natury – Grand Canyon. Przejedziemy potem legendarną drogą 66. Odwiedzimy Tamę Hoovera. W drugiej części wycieczki zobaczymy największe drzewa na świecie w Sequoia National Park i monolity w Yosemite National Park. Na trasie mamy Także Joshua Tree National Park i Pal Springs. W końcu przejedziemy przez góry Sierra Nevad i dotrzemy do niesamowitej Doliny Śmierci.  Podróż zakończymy w Las Vegas. \n\n\n \n\n\nPROGRAM WYCIECZKI KLIKNIJ
URL:https://www.almatravelusa.com/event/duchy-pustyni-parki-narodowe-i-miasta-dzikiego-zachodu/
ATTACH;FMTTYPE=image/jpeg:https://www.almatravelusa.com/wp-content/uploads/2025/01/20230412_1157350-cover-Joshua-National-Park.jpg
END:VEVENT
END:VCALENDAR